BEGIN:VCALENDAR
VERSION:2.0
PRODID:-//wp-events-plugin.com//7.2.3.1//EN
TZID:America/Toronto
X-WR-TIMEZONE:America/Toronto
BEGIN:VEVENT
UID:19@iimscanada.ca
DTSTART;TZID=America/Toronto:20230401T000000
DTEND;TZID=America/Toronto:20230401T000000
DTSTAMP:20230214T153626Z
URL:https://iimscanada.ca/events/iims-canada-agm/
SUMMARY:IIMS Canada AGM
DESCRIPTION:Details of this event TBC.
END:VEVENT
BEGIN:VTIMEZONE
TZID:America/Toronto
X-LIC-LOCATION:America/Toronto
BEGIN:DAYLIGHT
DTSTART:20230312T030000
TZOFFSETFROM:-0500
TZOFFSETTO:-0400
TZNAME:EDT
END:DAYLIGHT
END:VTIMEZONE
END:VCALENDAR